BEGIN:VCALENDAR
VERSION:2.0
PRODID:-//Trinity Community Services - ECPv6.15.20//NONSGML v1.0//EN
CALSCALE:GREGORIAN
METHOD:PUBLISH
X-WR-CALNAME:Trinity Community Services
X-ORIGINAL-URL:https://www.trinitycommunityservices.org
X-WR-CALDESC:Events for Trinity Community Services
REFRESH-INTERVAL;VALUE=DURATION:PT1H
X-Robots-Tag:noindex
X-PUBLISHED-TTL:PT1H
BEGIN:VTIMEZONE
TZID:America/New_York
BEGIN:DAYLIGHT
TZOFFSETFROM:-0500
TZOFFSETTO:-0400
TZNAME:EDT
DTSTART:20240310T070000
END:DAYLIGHT
BEGIN:STANDARD
TZOFFSETFROM:-0400
TZOFFSETTO:-0500
TZNAME:EST
DTSTART:20241103T060000
END:STANDARD
BEGIN:DAYLIGHT
TZOFFSETFROM:-0500
TZOFFSETTO:-0400
TZNAME:EDT
DTSTART:20250309T070000
END:DAYLIGHT
BEGIN:STANDARD
TZOFFSETFROM:-0400
TZOFFSETTO:-0500
TZNAME:EST
DTSTART:20251102T060000
END:STANDARD
BEGIN:DAYLIGHT
TZOFFSETFROM:-0500
TZOFFSETTO:-0400
TZNAME:EDT
DTSTART:20260308T070000
END:DAYLIGHT
BEGIN:STANDARD
TZOFFSETFROM:-0400
TZOFFSETTO:-0500
TZNAME:EST
DTSTART:20261101T060000
END:STANDARD
END:VTIMEZONE
BEGIN:VEVENT
DTSTART;VALUE=DATE:20251013
DTEND;VALUE=DATE:20251014
DTSTAMP:20260424T075819
CREATED:20250812T180203Z
LAST-MODIFIED:20250814T145142Z
UID:310-1760313600-1760399999@www.trinitycommunityservices.org
SUMMARY:No School - Teacher Workday
DESCRIPTION:
URL:https://www.trinitycommunityservices.org/event/no-school-teacher-workday-all-report/
END:VEVENT
BEGIN:VEVENT
DTSTART;TZID=America/New_York:20251010T190000
DTEND;TZID=America/New_York:20251010T190000
DTSTAMP:20260424T075819
CREATED:20250814T123350Z
LAST-MODIFIED:20250825T131921Z
UID:400-1760122800-1760122800@www.trinitycommunityservices.org
SUMMARY:Crusaders Football - Home Game vs. Ravenscroft - Homecoming
DESCRIPTION:Kick-off at 7pm — \nHomecoming Halftime
URL:https://www.trinitycommunityservices.org/event/crusaders-football-home-game-vs-ravenscroft-homecoming/
LOCATION:Trinity Christian School – Randal “Chuck” Webster Football Field\, 3727 Rosehill Road\, Fayetteville\, NC\, United States
END:VEVENT
BEGIN:VEVENT
DTSTART;TZID=America/New_York:20251010T184500
DTEND;TZID=America/New_York:20251010T184500
DTSTAMP:20260424T075819
CREATED:20250813T192257Z
LAST-MODIFIED:20250814T170354Z
UID:380-1760121900-1760121900@www.trinitycommunityservices.org
SUMMARY:TCS Homecoming Pictures
DESCRIPTION:
URL:https://www.trinitycommunityservices.org/event/tcs-homecoming/
END:VEVENT
BEGIN:VEVENT
DTSTART;TZID=America/New_York:20251003T190000
DTEND;TZID=America/New_York:20251003T190000
DTSTAMP:20260424T075819
CREATED:20250814T122908Z
LAST-MODIFIED:20250814T131326Z
UID:398-1759518000-1759518000@www.trinitycommunityservices.org
SUMMARY:Crusaders Football - Away Game @ Wayne Christian
DESCRIPTION:Kick-off at 7pm
URL:https://www.trinitycommunityservices.org/event/crusaders-football-away-game-wayne-christian/
LOCATION:Wayne Christian School\, 1201 Patetown Rd\, Goldsboro\, NC\, United States
END:VEVENT
BEGIN:VEVENT
DTSTART;VALUE=DATE:20251003
DTEND;VALUE=DATE:20251004
DTSTAMP:20260424T075819
CREATED:20250812T175935Z
LAST-MODIFIED:20250825T131154Z
UID:309-1759449600-1759535999@www.trinitycommunityservices.org
SUMMARY:High School Grades 9-12 - Progress Reports
DESCRIPTION:
URL:https://www.trinitycommunityservices.org/event/high-school-grades-9-12-only-progress-reports-2/
END:VEVENT
BEGIN:VEVENT
DTSTART;TZID=America/New_York:20250926T190000
DTEND;TZID=America/New_York:20250926T190000
DTSTAMP:20260424T075819
CREATED:20250814T122703Z
LAST-MODIFIED:20250814T130140Z
UID:396-1758913200-1758913200@www.trinitycommunityservices.org
SUMMARY:Crusaders Football - Away Game @ High Point
DESCRIPTION:Kick-off at 7pm
URL:https://www.trinitycommunityservices.org/event/crusaders-football-away-game-high-point/
LOCATION:High Point Central High School\, 801 Ferndale Blvd\, High Point\, NC\, United States
END:VEVENT
BEGIN:VEVENT
DTSTART;VALUE=DATE:20250923
DTEND;VALUE=DATE:20250924
DTSTAMP:20260424T075819
CREATED:20250812T175703Z
LAST-MODIFIED:20250825T131637Z
UID:308-1758585600-1758671999@www.trinitycommunityservices.org
SUMMARY:K-8th - Progress Reports / High School 9th-12th - Report Cards
DESCRIPTION:
URL:https://www.trinitycommunityservices.org/event/k-8th-progress-reports-hs-9th-12th-report-cards/
END:VEVENT
BEGIN:VEVENT
DTSTART;TZID=America/New_York:20250919T190000
DTEND;TZID=America/New_York:20250919T190000
DTSTAMP:20260424T075819
CREATED:20250814T121504Z
LAST-MODIFIED:20250814T140014Z
UID:395-1758308400-1758308400@www.trinitycommunityservices.org
SUMMARY:Crusaders Football - Home Game vs. Covenant Day
DESCRIPTION:Kick-off at 7pm
URL:https://www.trinitycommunityservices.org/event/crusaders-football-home-game-vs-covenant-day/
LOCATION:Trinity Christian School – Randal “Chuck” Webster Football Field\, 3727 Rosehill Road\, Fayetteville\, NC\, United States
END:VEVENT
BEGIN:VEVENT
DTSTART;VALUE=DATE:20250919
DTEND;VALUE=DATE:20250920
DTSTAMP:20260424T075819
CREATED:20250812T172917Z
LAST-MODIFIED:20250825T131208Z
UID:303-1758240000-1758326399@www.trinitycommunityservices.org
SUMMARY:High School Grades 9-12 - End of Grading Period
DESCRIPTION:
URL:https://www.trinitycommunityservices.org/event/high-school-grades-9-12-only-end-of-grading-period/
END:VEVENT
BEGIN:VEVENT
DTSTART;TZID=America/New_York:20250918T083000
DTEND;TZID=America/New_York:20250918T083000
DTSTAMP:20260424T075819
CREATED:20250813T192047Z
LAST-MODIFIED:20250903T170143Z
UID:379-1758184200-1758184200@www.trinitycommunityservices.org
SUMMARY:School Portraits - 7th-11th Grade
DESCRIPTION:Students will be photographed for a proof by Carlton Hubbard Photography (CHP) at Trinity Christian School. Within the following 10-14 school days\, proofs will be delivered to Trinity. Then\, students/parents will receive a proof package including the child’s proof and a portrait order form.  Please return the proof package with the completed portrait order form to the school within the deadline\, 7-10 days. Late orders will require a $10 late fee in addition to the initial cost of the order\, No Exceptions. CHP will deliver the completed portrait orders to Trinity within 20 school days\, after portrait orders have been received.
URL:https://www.trinitycommunityservices.org/event/tcs-7th-11th-grade-pictures/
LOCATION:Trinity Christian School\, 3727 Rosehill Road\, Fayetteville\, NC\, 28311\, United States
END:VEVENT
BEGIN:VEVENT
DTSTART;TZID=America/New_York:20250917T083000
DTEND;TZID=America/New_York:20250917T083000
DTSTAMP:20260424T075819
CREATED:20250813T191851Z
LAST-MODIFIED:20250903T170105Z
UID:377-1758097800-1758097800@www.trinitycommunityservices.org
SUMMARY:School Portraits - K-6th Grade
DESCRIPTION:Students will be photographed for a proof by Carlton Hubbard Photography (CHP) at Trinity Christian School. Within the following 10-14 school days\, proofs will be delivered to Trinity. Then\, students/parents will receive a proof package including the child’s proof and a portrait order form.  Please return the proof package with the completed portrait order form to the school within the deadline\, 7-10 days. Late orders will require a $10 late fee in addition to the initial cost of the order\, No Exceptions. CHP will deliver the completed portrait orders to Trinity within 20 school days\, after portrait orders have been received.
URL:https://www.trinitycommunityservices.org/event/tcs-kindergarten-6th-grade-pictures/
LOCATION:Trinity Christian School\, 3727 Rosehill Road\, Fayetteville\, NC\, 28311\, United States
END:VEVENT
BEGIN:VEVENT
DTSTART;TZID=America/New_York:20250916T085000
DTEND;TZID=America/New_York:20250916T085000
DTSTAMP:20260424T075819
CREATED:20250813T191637Z
LAST-MODIFIED:20250903T170558Z
UID:375-1758012600-1758012600@www.trinitycommunityservices.org
SUMMARY:School Portraits - Three-NC Pre-K (Childcare)
DESCRIPTION:Children in Trinity Childcare will be photographed for a proof by Carlton Hubbard Photography (CHP) at Trinity Christian School. Within the following 10-14 school days\, proofs will be delivered to Trinity. Then\, students/parents will receive a proof package including the child’s proof and a portrait order form.  Please return the proof package with the completed portrait order form to the school within the deadline\, 7-10 days. Late orders will require a $10 late fee in addition to the initial cost of the order\, No Exceptions. CHP will deliver the completed portrait orders to Trinity within 20 school days\, after portrait orders have been received.
URL:https://www.trinitycommunityservices.org/event/trinity-childcare-three-nc-pre-k/
LOCATION:Trinity Christian School\, 3727 Rosehill Road\, Fayetteville\, NC\, 28311\, United States
END:VEVENT
BEGIN:VEVENT
DTSTART;TZID=America/New_York:20250915T153000
DTEND;TZID=America/New_York:20250915T153000
DTSTAMP:20260424T075819
CREATED:20250911T151927Z
LAST-MODIFIED:20250911T151927Z
UID:529-1757950200-1757950200@www.trinitycommunityservices.org
SUMMARY:Volleyball Pictures
DESCRIPTION:Orders can be filled and processed @ www.carltonhubbardphoto.com
URL:https://www.trinitycommunityservices.org/event/volleyball-pictures/
LOCATION:John D. Fuller Sr. Recreational/Athletic Complex\, 6627 Old Bunce Rd\, Fayetteville\, NC\, United States
END:VEVENT
BEGIN:VEVENT
DTSTART;TZID=America/New_York:20250910T110000
DTEND;TZID=America/New_York:20250910T110000
DTSTAMP:20260424T075819
CREATED:20250812T172811Z
LAST-MODIFIED:20250814T165952Z
UID:302-1757502000-1757502000@www.trinitycommunityservices.org
SUMMARY:Grades 11-12 Jostens Assembly
DESCRIPTION:
URL:https://www.trinitycommunityservices.org/event/grades-11-12-jostens-assembly-at-11am/
END:VEVENT
BEGIN:VEVENT
DTSTART;VALUE=DATE:20250908
DTEND;VALUE=DATE:20250909
DTSTAMP:20260424T075819
CREATED:20250812T171316Z
LAST-MODIFIED:20250825T131221Z
UID:300-1757289600-1757375999@www.trinitycommunityservices.org
SUMMARY:High School Grades 9-12 - Progress Reports
DESCRIPTION:
URL:https://www.trinitycommunityservices.org/event/high-school-grades-9-12-only-progress-reports/
END:VEVENT
BEGIN:VEVENT
DTSTART;TZID=America/New_York:20250904T150000
DTEND;TZID=America/New_York:20250904T160000
DTSTAMP:20260424T075819
CREATED:20250829T115821Z
LAST-MODIFIED:20250829T115821Z
UID:458-1756998000-1757001600@www.trinitycommunityservices.org
SUMMARY:Rhythm Masters - Practice
DESCRIPTION:*After School
URL:https://www.trinitycommunityservices.org/event/rhythm-masters-practice-3/
LOCATION:Trinity Christian School\, 3727 Rosehill Road\, Fayetteville\, NC\, 28311\, United States
END:VEVENT
BEGIN:VEVENT
DTSTART;TZID=America/New_York:20250904T090000
DTEND;TZID=America/New_York:20250904T090000
DTSTAMP:20260424T075819
CREATED:20250814T165528Z
LAST-MODIFIED:20250814T165528Z
UID:419-1756976400-1756976400@www.trinitycommunityservices.org
SUMMARY:Senior Portraits
DESCRIPTION:
URL:https://www.trinitycommunityservices.org/event/senior-portraits/
END:VEVENT
BEGIN:VEVENT
DTSTART;TZID=America/New_York:20250903T150000
DTEND;TZID=America/New_York:20250903T160000
DTSTAMP:20260424T075819
CREATED:20250829T115657Z
LAST-MODIFIED:20250829T115657Z
UID:457-1756911600-1756915200@www.trinitycommunityservices.org
SUMMARY:Rhythm Masters - Practice
DESCRIPTION:*After School
URL:https://www.trinitycommunityservices.org/event/rhythm-masters-practice-2/
LOCATION:Trinity Christian School\, 3727 Rosehill Road\, Fayetteville\, NC\, 28311\, United States
END:VEVENT
BEGIN:VEVENT
DTSTART;TZID=America/New_York:20250903T090000
DTEND;TZID=America/New_York:20250903T090000
DTSTAMP:20260424T075819
CREATED:20250812T170955Z
LAST-MODIFIED:20250814T165446Z
UID:298-1756890000-1756890000@www.trinitycommunityservices.org
SUMMARY:Senior Portraits
DESCRIPTION:
URL:https://www.trinitycommunityservices.org/event/senior-pictures-at-9am/
LOCATION:Carlton Hubbard Photography\, 3619 Sycamore Dairy Rd\, Fayetteville\, NC\, United States
END:VEVENT
BEGIN:VEVENT
DTSTART;TZID=America/New_York:20250902T150000
DTEND;TZID=America/New_York:20250902T160000
DTSTAMP:20260424T075819
CREATED:20250829T115427Z
LAST-MODIFIED:20250829T115520Z
UID:456-1756825200-1756828800@www.trinitycommunityservices.org
SUMMARY:Rhythm Masters - Practice
DESCRIPTION:*After School
URL:https://www.trinitycommunityservices.org/event/rhythm-masters-practice/
LOCATION:Trinity Christian School\, 3727 Rosehill Road\, Fayetteville\, NC\, 28311\, United States
END:VEVENT
BEGIN:VEVENT
DTSTART;TZID=America/New_York:20250902T150000
DTEND;TZID=America/New_York:20250902T150000
DTSTAMP:20260424T075819
CREATED:20250813T185834Z
LAST-MODIFIED:20250829T185707Z
UID:372-1756825200-1756825200@www.trinitycommunityservices.org
SUMMARY:TCS Sports Portraits - Cheerleading & Football
DESCRIPTION:Cheerleading Portraits: 3:00pm — \nFootball Portraits: 3:30pm — \nOrders can be filled and processed @ www.carltonhubbardphoto.com \n  \n  \n 
URL:https://www.trinitycommunityservices.org/event/tcs-football-photos/
LOCATION:Trinity Christian School\, 3727 Rosehill Road\, Fayetteville\, NC\, 28311\, United States
END:VEVENT
BEGIN:VEVENT
DTSTART;VALUE=DATE:20250901
DTEND;VALUE=DATE:20250902
DTSTAMP:20260424T075819
CREATED:20250812T170535Z
LAST-MODIFIED:20250814T143421Z
UID:297-1756684800-1756771199@www.trinitycommunityservices.org
SUMMARY:No School/Labor Day
DESCRIPTION:*NC Pre-K – Closed
URL:https://www.trinitycommunityservices.org/event/no-school-labor-day/
END:VEVENT
BEGIN:VEVENT
DTSTART;TZID=America/New_York:20250829T190000
DTEND;TZID=America/New_York:20250829T190000
DTSTAMP:20260424T075819
CREATED:20250813T195125Z
LAST-MODIFIED:20250814T125438Z
UID:392-1756494000-1756494000@www.trinitycommunityservices.org
SUMMARY:Crusaders Football - Away Game @ Sallie B. Howard Charter School
DESCRIPTION:Kick-off at 7pm
URL:https://www.trinitycommunityservices.org/event/crusaders-football-away-game-sallie-b-howard-charter-school/
LOCATION:Sallie B Howard School\, 1004 Herring Ave E\, Wilson\, NC\, United States
END:VEVENT
BEGIN:VEVENT
DTSTART;VALUE=DATE:20250825
DTEND;VALUE=DATE:20250826
DTSTAMP:20260424T075819
CREATED:20250813T154209Z
LAST-MODIFIED:20250813T154209Z
UID:327-1756080000-1756166399@www.trinitycommunityservices.org
SUMMARY:First Day of School for NC Pre-K Students
DESCRIPTION:
URL:https://www.trinitycommunityservices.org/event/first-day-of-school-for-nc-pre-k-students/
END:VEVENT
BEGIN:VEVENT
DTSTART;TZID=America/New_York:20250822T190000
DTEND;TZID=America/New_York:20250822T190000
DTSTAMP:20260424T075819
CREATED:20250813T194740Z
LAST-MODIFIED:20250814T135808Z
UID:391-1755889200-1755889200@www.trinitycommunityservices.org
SUMMARY:Crusaders Football - Home Game vs. Metrolina Christian
DESCRIPTION:Kick-off at 7pm
URL:https://www.trinitycommunityservices.org/event/trinity-christian-football-home-game-vs-metrolina-christian/
LOCATION:Trinity Christian School – Randal “Chuck” Webster Football Field\, 3727 Rosehill Road\, Fayetteville\, NC\, United States
END:VEVENT
BEGIN:VEVENT
DTSTART;VALUE=DATE:20250820
DTEND;VALUE=DATE:20250821
DTSTAMP:20260424T075819
CREATED:20250812T154735Z
LAST-MODIFIED:20250812T174438Z
UID:290-1755648000-1755734399@www.trinitycommunityservices.org
SUMMARY:First day of school K-12th Grade
DESCRIPTION:
URL:https://www.trinitycommunityservices.org/event/first-day-of-school-k-12/
END:VEVENT
BEGIN:VEVENT
DTSTART;TZID=America/New_York:20250818T130000
DTEND;TZID=America/New_York:20250818T180000
DTSTAMP:20260424T075819
CREATED:20250812T155000Z
LAST-MODIFIED:20250813T134058Z
UID:291-1755522000-1755540000@www.trinitycommunityservices.org
SUMMARY:Back to School Night K-12th Grade
DESCRIPTION:  \nhttps://www.trinitycommunityservices.org/wp-content/uploads/NCPK-AND-K-12N-OPEN-HOUSE-AND-PARENT-NIGHT-2025.png \nhttps://www.trinitycommunityservices.org/wp-content/uploads/CLASSROOM-ASSIGNMENTS.pdf
URL:https://www.trinitycommunityservices.org/event/back-to-school-night-k-12/
LOCATION:K-12 Classrooms
END:VEVENT
END:VCALENDAR